BEGIN:VCALENDAR
VERSION:2.0
PRODID:-//wp-events-plugin.com//7.2.3.1//EN
TZID:Europe/London
X-WR-TIMEZONE:Europe/London
BEGIN:VEVENT
UID:84@thefoxandhoundstilehurst.co.uk
DTSTART;TZID=Europe/London:20250201T000000
DTEND;TZID=Europe/London:20250315T000000
DTSTAMP:20250208T134101Z
URL:https://thefoxandhoundstilehurst.co.uk/events/6-nations-rugby-live/
SUMMARY:6 Nations Rugby - LIVE
DESCRIPTION:Watch all of the games live at The Fox!\n\nTables are being boo
 ked to get a great seat\, so if you don't want to miss out\, give us a cal
 l to book your table.
ATTACH;FMTTYPE=image/jpeg:https://thefoxandhoundstilehurst.co.uk/wp-conten
 t/uploads/2025/02/6N.jpeg
END:VEVENT
BEGIN:VTIMEZONE
TZID:Europe/London
X-LIC-LOCATION:Europe/London
BEGIN:STANDARD
DTSTART:20241027T010000
TZOFFSETFROM:+0100
TZOFFSETTO:+0000
TZNAME:GMT
END:STANDARD
END:VTIMEZONE
END:VCALENDAR