BEGIN:VCALENDAR
VERSION:2.0
PRODID:-//wp-events-plugin.com//7.2.3.1//EN
TZID:Europe/London
X-WR-TIMEZONE:Europe/London
BEGIN:VEVENT
UID:51@thefoxandhoundstilehurst.co.uk
DTSTART;TZID=Europe/London:20241031T160000
DTEND;TZID=Europe/London:20241031T180000
DTSTAMP:20241017T122516Z
URL:https://thefoxandhoundstilehurst.co.uk/events/halloween-glow-party/
SUMMARY:Halloween Glow Party
DESCRIPTION:31st October we will host our first Glow Party.\n\nFrom 4-6pm\,
  treat your young ones to a pre-trick or treat party! Suitable for ages up
  to 12 years old\, tickets are just £3.00 each and adults go free! Each t
 icket holder will receive a goody bag on the way in.\n\nThere's a glow in 
 the dark disco\, halloween games\, KatiesKakes will have a stall as well a
 s devilish hot chocolate\, toffee apples hot dogs and nachos available. We
 're also pleased to be welcoming back Mel with her glitter tattoos and glo
 w paint.\n\nTo purchase your tickets please go to our online shop
ATTACH;FMTTYPE=image/jpeg:https://thefoxandhoundstilehurst.co.uk/wp-conten
 t/uploads/2024/10/Halloween-Party-Animated-Instagram-Post.jpg
LOCATION:Fox and Hounds (Tilehurst)\, 116\, City Road\, Tilehurst\, Berkshi
 re\, United Kingdom
X-APPLE-STRUCTURED-LOCATION;VALUE=URI;X-ADDRESS=116\, City Road\, Tilehurst
 \, Berkshire\, United Kingdom;X-APPLE-RADIUS=100;X-TITLE=Fox and Hounds (T
 ilehurst):geo:0,0
END:VEVENT
BEGIN:VTIMEZONE
TZID:Europe/London
X-LIC-LOCATION:Europe/London
BEGIN:STANDARD
DTSTART:20241027T010000
TZOFFSETFROM:+0100
TZOFFSETTO:+0000
TZNAME:GMT
END:STANDARD
END:VTIMEZONE
END:VCALENDAR